BEGIN:VCALENDAR
VERSION:2.0
PRODID:-//Colegio Reuven Feuerstein - ECPv6.13.0//NONSGML v1.0//EN
CALSCALE:GREGORIAN
METHOD:PUBLISH
X-ORIGINAL-URL:https://reuvenschool.edu.co
X-WR-CALDESC:Eventos para Colegio Reuven Feuerstein
REFRESH-INTERVAL;VALUE=DURATION:PT1H
X-Robots-Tag:noindex
X-PUBLISHED-TTL:PT1H
BEGIN:VTIMEZONE
TZID:UTC
BEGIN:STANDARD
TZOFFSETFROM:+0000
TZOFFSETTO:+0000
TZNAME:UTC
DTSTART:20200101T000000
END:STANDARD
END:VTIMEZONE
BEGIN:VEVENT
DTSTART;TZID=UTC:20210825T070000
DTEND;TZID=UTC:20210903T150000
DTSTAMP:20260419T234959
CREATED:20210629T143513Z
LAST-MODIFIED:20210629T143513Z
UID:2199-1629874800-1630681200@reuvenschool.edu.co
SUMMARY:EVALUACIONES
DESCRIPTION:
URL:https://reuvenschool.edu.co/event/evaluaciones-3/
END:VEVENT
BEGIN:VEVENT
DTSTART;TZID=UTC:20210707T070000
DTEND;TZID=UTC:20210713T150000
DTSTAMP:20260419T234959
CREATED:20210629T143234Z
LAST-MODIFIED:20210629T143234Z
UID:2195-1625641200-1626188400@reuvenschool.edu.co
SUMMARY:COMISIONES DE EVALUACIÓN Y PROMOCIÓN
DESCRIPTION:
URL:https://reuvenschool.edu.co/event/comisiones-de-evaluacion-y-promocion/
END:VEVENT
BEGIN:VEVENT
DTSTART;VALUE=DATE:20210706
DTEND;VALUE=DATE:20210707
DTSTAMP:20260419T234959
CREATED:20210629T143339Z
LAST-MODIFIED:20210629T143339Z
UID:2197-1625529600-1625615999@reuvenschool.edu.co
SUMMARY:INICIO DE TERCER PERIODO
DESCRIPTION:
URL:https://reuvenschool.edu.co/event/inicio-de-tercer-periodo/
END:VEVENT
BEGIN:VEVENT
DTSTART;TZID=UTC:20210622T070000
DTEND;TZID=UTC:20210702T150000
DTSTAMP:20260419T234959
CREATED:20210629T132700Z
LAST-MODIFIED:20210629T143042Z
UID:2185-1624345200-1625238000@reuvenschool.edu.co
SUMMARY:CURSO INTERSEMESTRAL - 10° y 11°
DESCRIPTION:
URL:https://reuvenschool.edu.co/event/curso-intersemestral-10-y-11/
END:VEVENT
BEGIN:VEVENT
DTSTART;VALUE=DATE:20210621
DTEND;VALUE=DATE:20210703
DTSTAMP:20260419T234959
CREATED:20210629T142615Z
LAST-MODIFIED:20210629T142615Z
UID:2193-1624233600-1625270399@reuvenschool.edu.co
SUMMARY:RECESO
DESCRIPTION:
URL:https://reuvenschool.edu.co/event/receso-2/
END:VEVENT
BEGIN:VEVENT
DTSTART;TZID=UTC:20210619T070000
DTEND;TZID=UTC:20210619T120000
DTSTAMP:20260419T234959
CREATED:20210629T142453Z
LAST-MODIFIED:20210629T142453Z
UID:2191-1624086000-1624104000@reuvenschool.edu.co
SUMMARY:ENTREGA DE INFORMES ACADÉMICOS
DESCRIPTION:
URL:https://reuvenschool.edu.co/event/entrega-de-informes-academicos/
END:VEVENT
BEGIN:VEVENT
DTSTART;TZID=UTC:20210608T070000
DTEND;TZID=UTC:20210616T150000
DTSTAMP:20260419T234959
CREATED:20210629T133551Z
LAST-MODIFIED:20210629T142335Z
UID:2187-1623135600-1623855600@reuvenschool.edu.co
SUMMARY:EVALUACIONES
DESCRIPTION:
URL:https://reuvenschool.edu.co/event/evaluaciones-tercer-periodo/
END:VEVENT
BEGIN:VEVENT
DTSTART;TZID=UTC:20201218T080000
DTEND;TZID=UTC:20201218T140000
DTSTAMP:20260419T234959
CREATED:20201020T160543Z
LAST-MODIFIED:20201020T162629Z
UID:1967-1608278400-1608300000@reuvenschool.edu.co
SUMMARY:MATRÍCULAS GRADOS 9°\, 10° Y 11°
DESCRIPTION:
URL:https://reuvenschool.edu.co/event/matriculas-grados-10-y-11/
END:VEVENT
BEGIN:VEVENT
DTSTART;TZID=UTC:20201217T080000
DTEND;TZID=UTC:20201217T140000
DTSTAMP:20260419T234959
CREATED:20201020T160444Z
LAST-MODIFIED:20201020T162925Z
UID:1965-1608192000-1608213600@reuvenschool.edu.co
SUMMARY:MATRÍCULAS GRADOS 7°Y 8°
DESCRIPTION:
URL:https://reuvenschool.edu.co/event/matriculas-grados-7-8-y-9/
END:VEVENT
BEGIN:VEVENT
DTSTART;TZID=UTC:20201216T080000
DTEND;TZID=UTC:20201216T140000
DTSTAMP:20260419T234959
CREATED:20201020T160412Z
LAST-MODIFIED:20201020T162541Z
UID:1963-1608105600-1608127200@reuvenschool.edu.co
SUMMARY:MATRÍCULAS GRADOS 5° Y 6°
DESCRIPTION:
URL:https://reuvenschool.edu.co/event/matriculas-grados-4-5-y-6/
END:VEVENT
BEGIN:VEVENT
DTSTART;TZID=UTC:20201215T080000
DTEND;TZID=UTC:20201215T140000
DTSTAMP:20260419T234959
CREATED:20201020T160348Z
LAST-MODIFIED:20201020T162518Z
UID:1961-1608019200-1608040800@reuvenschool.edu.co
SUMMARY:MATRÍCULAS GRADOS 2°\, 3° Y 4°
DESCRIPTION:
URL:https://reuvenschool.edu.co/event/matriculas-grados-1-2-y-3/
END:VEVENT
BEGIN:VEVENT
DTSTART;TZID=UTC:20201214T080000
DTEND;TZID=UTC:20201214T140000
DTSTAMP:20260419T234959
CREATED:20201020T160318Z
LAST-MODIFIED:20201020T162447Z
UID:1959-1607932800-1607954400@reuvenschool.edu.co
SUMMARY:MATRÍCULAS ESTUDIANTES NUEVOS\, PREESCOLAR Y 1°
DESCRIPTION:
URL:https://reuvenschool.edu.co/event/matriculas-estudiantes-nuevos-y-preescolar/
END:VEVENT
BEGIN:VEVENT
DTSTART;TZID=UTC:20201207T070000
DTEND;TZID=UTC:20201211T150000
DTSTAMP:20260419T234959
CREATED:20200930T161442Z
LAST-MODIFIED:20200930T161442Z
UID:1943-1607324400-1607698800@reuvenschool.edu.co
SUMMARY:INTERSEMESTRAL (GRADOS 10° Y 11°)
DESCRIPTION:
URL:https://reuvenschool.edu.co/event/intersemestral-grados-10-y-11-2/
END:VEVENT
BEGIN:VEVENT
DTSTART;TZID=UTC:20201206T113000
DTEND;TZID=UTC:20201206T130000
DTSTAMP:20260419T234959
CREATED:20200930T161919Z
LAST-MODIFIED:20201020T170710Z
UID:1947-1607254200-1607259600@reuvenschool.edu.co
SUMMARY:CEREMONIA DE GRADUACIÓN 11°
DESCRIPTION:
URL:https://reuvenschool.edu.co/event/ceremonia-de-graduacion-11/
ATTACH;FMTTYPE=image/jpeg:https://reuvenschool.edu.co/wp-content/uploads/2020/07/4.jpg
END:VEVENT
BEGIN:VEVENT
DTSTART;TZID=UTC:20201206T090000
DTEND;TZID=UTC:20201206T103000
DTSTAMP:20260419T234959
CREATED:20200930T161807Z
LAST-MODIFIED:20201020T170332Z
UID:1945-1607245200-1607250600@reuvenschool.edu.co
SUMMARY:CEREMONIA DE GRADUACIÓN 5°
DESCRIPTION:
URL:https://reuvenschool.edu.co/event/ceremonia-de-graduacion-5/
ATTACH;FMTTYPE=image/jpeg:https://reuvenschool.edu.co/wp-content/uploads/2020/07/2.jpg
END:VEVENT
BEGIN:VEVENT
DTSTART;TZID=UTC:20201201T070000
DTEND;TZID=UTC:20201204T150000
DTSTAMP:20260419T234959
CREATED:20200930T160906Z
LAST-MODIFIED:20200930T161353Z
UID:1941-1606806000-1607094000@reuvenschool.edu.co
SUMMARY:INTERSEMESTRAL (GRADOS 10° Y 11°)
DESCRIPTION:
URL:https://reuvenschool.edu.co/event/intersemestral-grados-10-y-11/
END:VEVENT
BEGIN:VEVENT
DTSTART;TZID=UTC:20201130T070000
DTEND;TZID=UTC:20201130T150000
DTSTAMP:20260419T234959
CREATED:20200929T154530Z
LAST-MODIFIED:20200930T160659Z
UID:1910-1606719600-1606748400@reuvenschool.edu.co
SUMMARY:JORNADA DE ENTREGA DE INFORMES DE INFORMES ACADÉMICOS FINALES
DESCRIPTION:
URL:https://reuvenschool.edu.co/event/entrega-de-informes-finaliza-iv-periodo/
END:VEVENT
BEGIN:VEVENT
DTSTART;TZID=UTC:20201129T113000
DTEND;TZID=UTC:20201129T130000
DTSTAMP:20260419T234959
CREATED:20200930T160502Z
LAST-MODIFIED:20201020T170810Z
UID:1937-1606649400-1606654800@reuvenschool.edu.co
SUMMARY:CEREMONIA DE GRADUACIÓN 9°
DESCRIPTION:
URL:https://reuvenschool.edu.co/event/ceremonia-de-graduacion-9/
ATTACH;FMTTYPE=image/jpeg:https://reuvenschool.edu.co/wp-content/uploads/2020/07/5.jpg
END:VEVENT
BEGIN:VEVENT
DTSTART;TZID=UTC:20201129T090000
DTEND;TZID=UTC:20201129T223000
DTSTAMP:20260419T234959
CREATED:20200930T160401Z
LAST-MODIFIED:20201020T171550Z
UID:1935-1606640400-1606689000@reuvenschool.edu.co
SUMMARY:CEREMONIA DE GRADUACIÓN TRANSICIÓN
DESCRIPTION:
URL:https://reuvenschool.edu.co/event/ceremonia-de-graduacion-transicion/
ATTACH;FMTTYPE=image/jpeg:https://reuvenschool.edu.co/wp-content/uploads/2020/09/DSCA_0102_opt.jpg
END:VEVENT
BEGIN:VEVENT
DTSTART;TZID=UTC:20201123T070000
DTEND;TZID=UTC:20201127T150000
DTSTAMP:20260419T234959
CREATED:20200929T154332Z
LAST-MODIFIED:20200930T155842Z
UID:1906-1606114800-1606489200@reuvenschool.edu.co
SUMMARY:CURSO REMEDIAL
DESCRIPTION:
URL:https://reuvenschool.edu.co/event/remediales/
END:VEVENT
BEGIN:VEVENT
DTSTART;TZID=UTC:20201121T080000
DTEND;TZID=UTC:20201121T170000
DTSTAMP:20260419T234959
CREATED:20200929T154159Z
LAST-MODIFIED:20201020T171751Z
UID:1904-1605945600-1605978000@reuvenschool.edu.co
SUMMARY:OPOSICIÓN ACADÉMICA PARA OPTAR A LA DISTINCIÓN ESPECIAL PROYECTO PLATINO (5°)
DESCRIPTION:
URL:https://reuvenschool.edu.co/event/oposicion-academica-proyecto-platino/
ATTACH;FMTTYPE=image/png:https://reuvenschool.edu.co/wp-content/uploads/2020/08/Cardmusica.png
END:VEVENT
BEGIN:VEVENT
DTSTART;TZID=UTC:20201120T070000
DTEND;TZID=UTC:20201120T150000
DTSTAMP:20260419T234959
CREATED:20200929T154428Z
LAST-MODIFIED:20200930T155952Z
UID:1908-1605855600-1605884400@reuvenschool.edu.co
SUMMARY:CURSO REMEDIAL
DESCRIPTION:
URL:https://reuvenschool.edu.co/event/remediales-2/
END:VEVENT
BEGIN:VEVENT
DTSTART;TZID=UTC:20201116T070000
DTEND;TZID=UTC:20201117T150000
DTSTAMP:20260419T234959
CREATED:20200930T155110Z
LAST-MODIFIED:20200930T155110Z
UID:1927-1605510000-1605625200@reuvenschool.edu.co
SUMMARY:EVALUACIONES CUARTO PERIODO
DESCRIPTION:
URL:https://reuvenschool.edu.co/event/evaluaciones-cuarto-periodo/
END:VEVENT
BEGIN:VEVENT
DTSTART;TZID=UTC:20201109T190000
DTEND;TZID=UTC:20201113T200000
DTSTAMP:20260419T234959
CREATED:20200930T155558Z
LAST-MODIFIED:20201020T171439Z
UID:1930-1604948400-1605297600@reuvenschool.edu.co
SUMMARY:NOCHES DE FANTASÍA FEUERSTENIANA
DESCRIPTION:
URL:https://reuvenschool.edu.co/event/noches-de-fantasia-feuersteniana/
ATTACH;FMTTYPE=image/jpeg:https://reuvenschool.edu.co/wp-content/uploads/2020/07/DSC_9126-scaled.jpg
END:VEVENT
BEGIN:VEVENT
DTSTART;TZID=UTC:20201109T070000
DTEND;TZID=UTC:20201113T150000
DTSTAMP:20260419T234959
CREATED:20200929T153544Z
LAST-MODIFIED:20200929T175958Z
UID:1900-1604905200-1605279600@reuvenschool.edu.co
SUMMARY:EVALUACIONES CUARTO PERIODO
DESCRIPTION:
URL:https://reuvenschool.edu.co/event/evaluaciones-2/
END:VEVENT
BEGIN:VEVENT
DTSTART;TZID=UTC:20201107T080000
DTEND;TZID=UTC:20201107T170000
DTSTAMP:20260419T234959
CREATED:20200929T153629Z
LAST-MODIFIED:20201020T173045Z
UID:1902-1604736000-1604768400@reuvenschool.edu.co
SUMMARY:OPOSICIÓN ACADÉMICA PARA OPTAR A LA DISTINCIÓN ESPECIAL PROYECTO BRONCE (TR.)
DESCRIPTION:
URL:https://reuvenschool.edu.co/event/oposicion-academica-proyecto-bronce/
ATTACH;FMTTYPE=image/jpeg:https://reuvenschool.edu.co/wp-content/uploads/2020/09/DSC_0728_opt.jpg
END:VEVENT
BEGIN:VEVENT
DTSTART;TZID=UTC:20201104T070000
DTEND;TZID=UTC:20201105T150000
DTSTAMP:20260419T234959
CREATED:20200929T153452Z
LAST-MODIFIED:20200930T154950Z
UID:1898-1604473200-1604588400@reuvenschool.edu.co
SUMMARY:EVALUACIONES CUARTO PERIODO
DESCRIPTION:
URL:https://reuvenschool.edu.co/event/evaluaciones/
END:VEVENT
BEGIN:VEVENT
DTSTART;TZID=UTC:20201031T080000
DTEND;TZID=UTC:20201031T170000
DTSTAMP:20260419T234959
CREATED:20200930T154502Z
LAST-MODIFIED:20201020T172155Z
UID:1925-1604131200-1604163600@reuvenschool.edu.co
SUMMARY:OPOSICIÓN ACADÉMICA PARA OPTAR A LA DISTINCIÓN ESPECIAL PROYECTO ORO (11°)
DESCRIPTION:
URL:https://reuvenschool.edu.co/event/oposicion-academica-para-optar-a-la-distincion-especial-proyecto-oro-11/
ATTACH;FMTTYPE=image/jpeg:https://reuvenschool.edu.co/wp-content/uploads/2020/09/DSC_8468_opt.jpg
END:VEVENT
BEGIN:VEVENT
DTSTART;TZID=UTC:20201017T080000
DTEND;TZID=UTC:20201017T170000
DTSTAMP:20260419T234959
CREATED:20200929T152719Z
LAST-MODIFIED:20201020T173146Z
UID:1895-1602921600-1602954000@reuvenschool.edu.co
SUMMARY:OPOSICIÓN ACADÉMICA PARA OPTAR A LA DISTINCIÓN ESPECIAL PROYECTO PLATA (9°)
DESCRIPTION:
URL:https://reuvenschool.edu.co/event/oposicion-academica-proyecto-plata-pre-examen-cinturon-negro/
ATTACH;FMTTYPE=image/jpeg:https://reuvenschool.edu.co/wp-content/uploads/2020/06/Personero-scaled.jpg
END:VEVENT
BEGIN:VEVENT
DTSTART;VALUE=DATE:20201005
DTEND;VALUE=DATE:20201011
DTSTAMP:20260419T234959
CREATED:20200929T143705Z
LAST-MODIFIED:20200929T154033Z
UID:1893-1601856000-1602374399@reuvenschool.edu.co
SUMMARY:RECESO ESCOLAR
DESCRIPTION:
URL:https://reuvenschool.edu.co/event/receso/
END:VEVENT
END:VCALENDAR