BEGIN:VCALENDAR
VERSION:2.0
PRODID:-//Colegio Reuven Feuerstein - ECPv6.13.0//NONSGML v1.0//EN
CALSCALE:GREGORIAN
METHOD:PUBLISH
X-ORIGINAL-URL:https://reuvenschool.edu.co
X-WR-CALDESC:Eventos para Colegio Reuven Feuerstein
REFRESH-INTERVAL;VALUE=DURATION:PT1H
X-Robots-Tag:noindex
X-PUBLISHED-TTL:PT1H
BEGIN:VTIMEZONE
TZID:UTC
BEGIN:STANDARD
TZOFFSETFROM:+0000
TZOFFSETTO:+0000
TZNAME:UTC
DTSTART:20220101T000000
END:STANDARD
END:VTIMEZONE
BEGIN:VEVENT
DTSTART;VALUE=DATE:20221028
DTEND;VALUE=DATE:20221029
DTSTAMP:20260419T145316
CREATED:20220322T155025Z
LAST-MODIFIED:20220322T155025Z
UID:2416-1666915200-1667001599@reuvenschool.edu.co
SUMMARY:DÍA DEL ESTUDIANTE
DESCRIPTION:
URL:https://reuvenschool.edu.co/event/dia-del-estudiante/
END:VEVENT
BEGIN:VEVENT
DTSTART;TZID=UTC:20221022T070000
DTEND;TZID=UTC:20221022T150000
DTSTAMP:20260419T145316
CREATED:20220322T154901Z
LAST-MODIFIED:20220322T154901Z
UID:2414-1666422000-1666450800@reuvenschool.edu.co
SUMMARY:EXAMEN GENERAL DE TAE-KWON-DO
DESCRIPTION:
URL:https://reuvenschool.edu.co/event/examen-general-de-tae-kwon-do-2/
END:VEVENT
BEGIN:VEVENT
DTSTART;TZID=UTC:20221021T070000
DTEND;TZID=UTC:20221021T140000
DTSTAMP:20260419T145316
CREATED:20220322T154025Z
LAST-MODIFIED:20220322T154025Z
UID:2411-1666335600-1666360800@reuvenschool.edu.co
SUMMARY:JORNADA ADMISIONES 2023
DESCRIPTION:
URL:https://reuvenschool.edu.co/event/jornada-admisiones-2023/
END:VEVENT
BEGIN:VEVENT
DTSTART;VALUE=DATE:20221017
DTEND;VALUE=DATE:20221018
DTSTAMP:20260419T145316
CREATED:20220322T153906Z
LAST-MODIFIED:20220322T153906Z
UID:2409-1665964800-1666051199@reuvenschool.edu.co
SUMMARY:Día de la Raza
DESCRIPTION:
URL:https://reuvenschool.edu.co/event/dia-de-la-raza/
END:VEVENT
BEGIN:VEVENT
DTSTART;VALUE=DATE:20221010
DTEND;VALUE=DATE:20221015
DTSTAMP:20260419T145316
CREATED:20220322T153808Z
LAST-MODIFIED:20220322T153808Z
UID:2407-1665360000-1665791999@reuvenschool.edu.co
SUMMARY:RECESO ESCOLAR
DESCRIPTION:
URL:https://reuvenschool.edu.co/event/receso-escolar/
END:VEVENT
BEGIN:VEVENT
DTSTART;TZID=UTC:20221008T070000
DTEND;TZID=UTC:20221008T170000
DTSTAMP:20260419T145316
CREATED:20220322T153709Z
LAST-MODIFIED:20220322T153709Z
UID:2405-1665212400-1665248400@reuvenschool.edu.co
SUMMARY:OPOSICIÓN ACADÉMICA PROYECTO PLATA (Grado 9°)
DESCRIPTION:
URL:https://reuvenschool.edu.co/event/oposicion-academica-proyecto-plata-grado-9/
END:VEVENT
BEGIN:VEVENT
DTSTART;TZID=UTC:20221001T080000
DTEND;TZID=UTC:20221001T120000
DTSTAMP:20260419T145316
CREATED:20220322T153347Z
LAST-MODIFIED:20220322T153347Z
UID:2401-1664611200-1664625600@reuvenschool.edu.co
SUMMARY:PRIMERAS COMUNIONES
DESCRIPTION:
URL:https://reuvenschool.edu.co/event/primeras-comuniones/
END:VEVENT
BEGIN:VEVENT
DTSTART;TZID=UTC:20221001T070000
DTEND;TZID=UTC:20221001T120000
DTSTAMP:20260419T145316
CREATED:20220322T153458Z
LAST-MODIFIED:20220322T153458Z
UID:2403-1664607600-1664625600@reuvenschool.edu.co
SUMMARY:Pre-Examen CINTURÓN NEGRO
DESCRIPTION:
URL:https://reuvenschool.edu.co/event/pre-examen-cinturon-negro/
END:VEVENT
BEGIN:VEVENT
DTSTART;TZID=UTC:20220930T070000
DTEND;TZID=UTC:20220930T150000
DTSTAMP:20260419T145316
CREATED:20220322T153136Z
LAST-MODIFIED:20220322T153136Z
UID:2399-1664521200-1664550000@reuvenschool.edu.co
SUMMARY:COMISIÓN DE EVALUACIÓN Y PROMOCIÓN (K\, TR\, 1°)
DESCRIPTION:
URL:https://reuvenschool.edu.co/event/comision-de-evaluacion-y-promocion-k-tr-1-3/
END:VEVENT
BEGIN:VEVENT
DTSTART;TZID=UTC:20220929T070000
DTEND;TZID=UTC:20220929T150000
DTSTAMP:20260419T145316
CREATED:20220322T153027Z
LAST-MODIFIED:20220322T153027Z
UID:2397-1664434800-1664463600@reuvenschool.edu.co
SUMMARY:COMISIÓN DE EVALUACIÓN Y PROMOCIÓN (10°\, 11°)
DESCRIPTION:
URL:https://reuvenschool.edu.co/event/comision-de-evaluacion-y-promocion-10-11-3/
END:VEVENT
BEGIN:VEVENT
DTSTART;TZID=UTC:20220928T070000
DTEND;TZID=UTC:20220928T150000
DTSTAMP:20260419T145316
CREATED:20220322T152929Z
LAST-MODIFIED:20220322T152929Z
UID:2395-1664348400-1664377200@reuvenschool.edu.co
SUMMARY:COMISIÓN DE EVALUACIÓN Y PROMOCIÓN (5°\, 6°\, 7°)
DESCRIPTION:
URL:https://reuvenschool.edu.co/event/comision-de-evaluacion-y-promocion-5-6-7-3/
END:VEVENT
BEGIN:VEVENT
DTSTART;TZID=UTC:20220927T070000
DTEND;TZID=UTC:20220927T150000
DTSTAMP:20260419T145316
CREATED:20220322T152833Z
LAST-MODIFIED:20220322T152833Z
UID:2393-1664262000-1664290800@reuvenschool.edu.co
SUMMARY:COMISIÓN DE EVALUACIÓN Y PROMOCIÓN (2°\, 3°\, 8°)
DESCRIPTION:
URL:https://reuvenschool.edu.co/event/comision-de-evaluacion-y-promocion-2-3-8-3/
END:VEVENT
BEGIN:VEVENT
DTSTART;TZID=UTC:20220926T070000
DTEND;TZID=UTC:20220926T150000
DTSTAMP:20260419T145316
CREATED:20220322T152729Z
LAST-MODIFIED:20220322T152729Z
UID:2391-1664175600-1664204400@reuvenschool.edu.co
SUMMARY:COMISIÓN DE EVALUACIÓN Y PROMOCIÓN (PK°\, 4°\, 9°)
DESCRIPTION:
URL:https://reuvenschool.edu.co/event/comision-de-evaluacion-y-promocion-pk-4-9-3/
END:VEVENT
BEGIN:VEVENT
DTSTART;TZID=UTC:20220923T070000
DTEND;TZID=UTC:20220923T150000
DTSTAMP:20260419T145316
CREATED:20220322T152553Z
LAST-MODIFIED:20220322T152553Z
UID:2389-1663916400-1663945200@reuvenschool.edu.co
SUMMARY:ENCUENTRO DE FORMACIÓN FAMILIAR (4° Y 5°)
DESCRIPTION:
URL:https://reuvenschool.edu.co/event/encuentro-de-formacion-familiar-4-y-5-2/
END:VEVENT
BEGIN:VEVENT
DTSTART;TZID=UTC:20220923T070000
DTEND;TZID=UTC:20220923T150000
DTSTAMP:20260419T145316
CREATED:20220322T152440Z
LAST-MODIFIED:20220322T152440Z
UID:2387-1663916400-1663945200@reuvenschool.edu.co
SUMMARY:ENTREGA DE INFORMES ACADÉMICOS Y COMPORTAMENTALES
DESCRIPTION:
URL:https://reuvenschool.edu.co/event/entrega-de-informes-academicos-y-comportamentales-3/
END:VEVENT
BEGIN:VEVENT
DTSTART;TZID=UTC:20220922T080000
DTEND;TZID=UTC:20220922T140000
DTSTAMP:20260419T145316
CREATED:20220322T151818Z
LAST-MODIFIED:20220322T151818Z
UID:2385-1663833600-1663855200@reuvenschool.edu.co
SUMMARY:ENTREGA RESULTADOS PROCESO DE ADMISIONES 2023
DESCRIPTION:
URL:https://reuvenschool.edu.co/event/entrega-resultados-proceso-de-admisiones-2023/
END:VEVENT
BEGIN:VEVENT
DTSTART;TZID=UTC:20220920T080000
DTEND;TZID=UTC:20220920T140000
DTSTAMP:20260419T145316
CREATED:20220322T151547Z
LAST-MODIFIED:20220322T151547Z
UID:2383-1663660800-1663682400@reuvenschool.edu.co
SUMMARY:COMITÉ DE ADMISIONES 2023
DESCRIPTION:
URL:https://reuvenschool.edu.co/event/comite-de-admisiones-2023/
END:VEVENT
BEGIN:VEVENT
DTSTART;TZID=UTC:20220907T070000
DTEND;TZID=UTC:20220916T150000
DTSTAMP:20260419T145316
CREATED:20220308T170148Z
LAST-MODIFIED:20220308T170531Z
UID:2312-1662534000-1663340400@reuvenschool.edu.co
SUMMARY:EVALUACIONES PERIODO III
DESCRIPTION:
URL:https://reuvenschool.edu.co/event/evaluaciones-periodo-i-3/
END:VEVENT
BEGIN:VEVENT
DTSTART;TZID=UTC:20220903T080000
DTEND;TZID=UTC:20220903T120000
DTSTAMP:20260419T145316
CREATED:20220308T202617Z
LAST-MODIFIED:20220308T202617Z
UID:2380-1662192000-1662206400@reuvenschool.edu.co
SUMMARY:ENCUENTRO DE FORMACIÓN FAMILIAR (1°\, 2°\, 3°)
DESCRIPTION:
URL:https://reuvenschool.edu.co/event/encuentro-de-formacion-familiar-1-2-3/
END:VEVENT
BEGIN:VEVENT
DTSTART;TZID=UTC:20220826T070000
DTEND;TZID=UTC:20220826T130000
DTSTAMP:20260419T145316
CREATED:20220308T202220Z
LAST-MODIFIED:20220308T202220Z
UID:2378-1661497200-1661518800@reuvenschool.edu.co
SUMMARY:JORNADA DE ADMISIONES 2023
DESCRIPTION:
URL:https://reuvenschool.edu.co/event/jornada-de-admisiones-2023/
END:VEVENT
BEGIN:VEVENT
DTSTART;VALUE=DATE:20220815
DTEND;VALUE=DATE:20220816
DTSTAMP:20260419T145316
CREATED:20220308T202124Z
LAST-MODIFIED:20220308T202124Z
UID:2376-1660521600-1660607999@reuvenschool.edu.co
SUMMARY:Asunción de la Virgen
DESCRIPTION:
URL:https://reuvenschool.edu.co/event/asuncion-de-la-virgen/
END:VEVENT
BEGIN:VEVENT
DTSTART;TZID=UTC:20220813T080000
DTEND;TZID=UTC:20220813T120000
DTSTAMP:20260419T145316
CREATED:20220308T181553Z
LAST-MODIFIED:20220308T201128Z
UID:2345-1660377600-1660392000@reuvenschool.edu.co
SUMMARY:ENCUENTRO DE FORMACIÓN FAMILIAR (8° y 9°)
DESCRIPTION:
URL:https://reuvenschool.edu.co/event/curso-remedial-grados-10-y-11/
END:VEVENT
BEGIN:VEVENT
DTSTART;VALUE=DATE:20220720
DTEND;VALUE=DATE:20220721
DTSTAMP:20260419T145316
CREATED:20220308T200445Z
LAST-MODIFIED:20220308T200445Z
UID:2371-1658275200-1658361599@reuvenschool.edu.co
SUMMARY:Día de la Independencia
DESCRIPTION:
URL:https://reuvenschool.edu.co/event/dia-de-la-independencia/
END:VEVENT
BEGIN:VEVENT
DTSTART;TZID=UTC:20220718T070000
DTEND;TZID=UTC:20220718T150000
DTSTAMP:20260419T145316
CREATED:20220308T200249Z
LAST-MODIFIED:20220308T200249Z
UID:2369-1658127600-1658156400@reuvenschool.edu.co
SUMMARY:COMISIÓN DE EVALUACIÓN Y PROMOCIÓN (PK°\, 4°\, 9°)
DESCRIPTION:
URL:https://reuvenschool.edu.co/event/comision-de-evaluacion-y-promocion-pk-4-9-2/
END:VEVENT
BEGIN:VEVENT
DTSTART;TZID=UTC:20220715T070000
DTEND;TZID=UTC:20220715T150000
DTSTAMP:20260419T145316
CREATED:20220308T200207Z
LAST-MODIFIED:20220308T200207Z
UID:2367-1657868400-1657897200@reuvenschool.edu.co
SUMMARY:COMISIÓN DE EVALUACIÓN Y PROMOCIÓN (K\, TR\, 1°)
DESCRIPTION:
URL:https://reuvenschool.edu.co/event/comision-de-evaluacion-y-promocion-k-tr-1-2/
END:VEVENT
BEGIN:VEVENT
DTSTART;TZID=UTC:20220714T070000
DTEND;TZID=UTC:20220714T150000
DTSTAMP:20260419T145316
CREATED:20220308T200111Z
LAST-MODIFIED:20220308T200111Z
UID:2365-1657782000-1657810800@reuvenschool.edu.co
SUMMARY:COMISIÓN DE EVALUACIÓN Y PROMOCIÓN (10°\, 11°)
DESCRIPTION:
URL:https://reuvenschool.edu.co/event/comision-de-evaluacion-y-promocion-10-11-2/
END:VEVENT
BEGIN:VEVENT
DTSTART;TZID=UTC:20220713T070000
DTEND;TZID=UTC:20220713T150000
DTSTAMP:20260419T145316
CREATED:20220308T193816Z
LAST-MODIFIED:20220308T193816Z
UID:2363-1657695600-1657724400@reuvenschool.edu.co
SUMMARY:COMISIÓN DE EVALUACIÓN Y PROMOCIÓN (5°\, 6°\, 7°)
DESCRIPTION:
URL:https://reuvenschool.edu.co/event/comision-de-evaluacion-y-promocion-5-6-7-2/
END:VEVENT
BEGIN:VEVENT
DTSTART;TZID=UTC:20220712T070000
DTEND;TZID=UTC:20220712T150000
DTSTAMP:20260419T145316
CREATED:20220308T193718Z
LAST-MODIFIED:20220308T193718Z
UID:2361-1657609200-1657638000@reuvenschool.edu.co
SUMMARY:COMISIÓN DE EVALUACIÓN Y PROMOCIÓN (2°\, 3°\, 8°)
DESCRIPTION:
URL:https://reuvenschool.edu.co/event/comision-de-evaluacion-y-promocion-2-3-8-2/
END:VEVENT
BEGIN:VEVENT
DTSTART;TZID=UTC:20220711T070000
DTEND;TZID=UTC:20220711T150000
DTSTAMP:20260419T145316
CREATED:20220308T193132Z
LAST-MODIFIED:20220308T193132Z
UID:2359-1657522800-1657551600@reuvenschool.edu.co
SUMMARY:INICIO DE TERCER PERIODO
DESCRIPTION:
URL:https://reuvenschool.edu.co/event/inicio-de-tercer-periodo-2/
END:VEVENT
BEGIN:VEVENT
DTSTART;TZID=UTC:20220628T070000
DTEND;TZID=UTC:20220708T150000
DTSTAMP:20260419T145316
CREATED:20220308T185747Z
LAST-MODIFIED:20220308T185747Z
UID:2355-1656399600-1657292400@reuvenschool.edu.co
SUMMARY:CURSO INTERSEMESTRAL (Grados 10° y 11°)
DESCRIPTION:
URL:https://reuvenschool.edu.co/event/curso-intersemestral-grados-10-y-11/
END:VEVENT
END:VCALENDAR