BEGIN:VCALENDAR
VERSION:2.0
PRODID:-//Colegio Reuven Feuerstein - ECPv6.13.0//NONSGML v1.0//EN
CALSCALE:GREGORIAN
METHOD:PUBLISH
X-ORIGINAL-URL:https://reuvenschool.edu.co
X-WR-CALDESC:Eventos para Colegio Reuven Feuerstein
REFRESH-INTERVAL;VALUE=DURATION:PT1H
X-Robots-Tag:noindex
X-PUBLISHED-TTL:PT1H
BEGIN:VTIMEZONE
TZID:UTC
BEGIN:STANDARD
TZOFFSETFROM:+0000
TZOFFSETTO:+0000
TZNAME:UTC
DTSTART:20210101T000000
END:STANDARD
END:VTIMEZONE
BEGIN:VEVENT
DTSTART;TZID=UTC:20220608T070000
DTEND;TZID=UTC:20220622T150000
DTSTAMP:20260419T185256
CREATED:20220308T170050Z
LAST-MODIFIED:20220308T170427Z
UID:2310-1654671600-1655910000@reuvenschool.edu.co
SUMMARY:EVALUACIONES PERIODO II
DESCRIPTION:
URL:https://reuvenschool.edu.co/event/evaluaciones-periodo-i-2/
END:VEVENT
BEGIN:VEVENT
DTSTART;TZID=UTC:20220604T070000
DTEND;TZID=UTC:20220604T170000
DTSTAMP:20260419T185256
CREATED:20220308T172817Z
LAST-MODIFIED:20220308T172817Z
UID:2343-1654326000-1654362000@reuvenschool.edu.co
SUMMARY:OPOSICIÓN ACADÉMICA PROYECTO ORO (Grado 11°)
DESCRIPTION:
URL:https://reuvenschool.edu.co/event/oposicion-academica-proyecto-oro-grado-11/
END:VEVENT
BEGIN:VEVENT
DTSTART;VALUE=DATE:20220530
DTEND;VALUE=DATE:20220531
DTSTAMP:20260419T185256
CREATED:20220308T172345Z
LAST-MODIFIED:20220308T172345Z
UID:2341-1653868800-1653955199@reuvenschool.edu.co
SUMMARY:Día de la Ascensión
DESCRIPTION:
URL:https://reuvenschool.edu.co/event/dia-de-la-ascension/
END:VEVENT
BEGIN:VEVENT
DTSTART;VALUE=DATE:20220513
DTEND;VALUE=DATE:20220514
DTSTAMP:20260419T185256
CREATED:20220308T172249Z
LAST-MODIFIED:20220308T172249Z
UID:2339-1652400000-1652486399@reuvenschool.edu.co
SUMMARY:CELEBRACIÓN DÍA DEL EDUCADOR
DESCRIPTION:
URL:https://reuvenschool.edu.co/event/celebracion-dia-del-educador/
END:VEVENT
BEGIN:VEVENT
DTSTART;TZID=UTC:20220429T070000
DTEND;TZID=UTC:20220429T150000
DTSTAMP:20260419T185256
CREATED:20220308T172031Z
LAST-MODIFIED:20220308T172031Z
UID:2337-1651215600-1651244400@reuvenschool.edu.co
SUMMARY:COMISIÓN DE EVALUACIÓN Y PROMOCIÓN (K\, TR\, 1°)
DESCRIPTION:
URL:https://reuvenschool.edu.co/event/comision-de-evaluacion-y-promocion-k-tr-1/
END:VEVENT
BEGIN:VEVENT
DTSTART;TZID=UTC:20220428T070000
DTEND;TZID=UTC:20220428T150000
DTSTAMP:20260419T185256
CREATED:20220308T171942Z
LAST-MODIFIED:20220308T171942Z
UID:2335-1651129200-1651158000@reuvenschool.edu.co
SUMMARY:COMISIÓN DE EVALUACIÓN Y PROMOCIÓN (10°\, 11°)
DESCRIPTION:
URL:https://reuvenschool.edu.co/event/comision-de-evaluacion-y-promocion-10-11/
END:VEVENT
BEGIN:VEVENT
DTSTART;TZID=UTC:20220427T070000
DTEND;TZID=UTC:20220427T150000
DTSTAMP:20260419T185256
CREATED:20220308T171855Z
LAST-MODIFIED:20220308T171855Z
UID:2333-1651042800-1651071600@reuvenschool.edu.co
SUMMARY:COMISIÓN DE EVALUACIÓN Y PROMOCIÓN (5°\, 6°\, 7°)
DESCRIPTION:
URL:https://reuvenschool.edu.co/event/comision-de-evaluacion-y-promocion-5-6-7/
END:VEVENT
BEGIN:VEVENT
DTSTART;TZID=UTC:20220426T070000
DTEND;TZID=UTC:20220426T150000
DTSTAMP:20260419T185256
CREATED:20220308T171756Z
LAST-MODIFIED:20220308T171756Z
UID:2331-1650956400-1650985200@reuvenschool.edu.co
SUMMARY:COMISIÓN DE EVALUACIÓN Y PROMOCIÓN (2°\, 3°\, 8°)
DESCRIPTION:
URL:https://reuvenschool.edu.co/event/comision-de-evaluacion-y-promocion-2-3-8/
END:VEVENT
BEGIN:VEVENT
DTSTART;TZID=UTC:20220425T070000
DTEND;TZID=UTC:20220425T150000
DTSTAMP:20260419T185256
CREATED:20220308T171708Z
LAST-MODIFIED:20220308T171708Z
UID:2329-1650870000-1650898800@reuvenschool.edu.co
SUMMARY:COMISIÓN DE EVALUACIÓN Y PROMOCIÓN (PK°\, 4°\, 9°)
DESCRIPTION:
URL:https://reuvenschool.edu.co/event/comision-de-evaluacion-y-promocion-pk-4-9/
END:VEVENT
BEGIN:VEVENT
DTSTART;TZID=UTC:20220423T070000
DTEND;TZID=UTC:20220423T130000
DTSTAMP:20260419T185256
CREATED:20220308T171115Z
LAST-MODIFIED:20220308T171115Z
UID:2323-1650697200-1650718800@reuvenschool.edu.co
SUMMARY:ENTREGA DE INFORMES ACADÉMICOS Y COMPORTAMENTALES
DESCRIPTION:
URL:https://reuvenschool.edu.co/event/entrega-de-informes-academicos-y-comportamentales/
END:VEVENT
BEGIN:VEVENT
DTSTART;TZID=UTC:20220423T070000
DTEND;TZID=UTC:20220423T120000
DTSTAMP:20260419T185256
CREATED:20220308T171203Z
LAST-MODIFIED:20220308T171203Z
UID:2325-1650697200-1650715200@reuvenschool.edu.co
SUMMARY:ENCUENTRO DE FORMACIÓN FAMILIAR (6° y 7°)
DESCRIPTION:
URL:https://reuvenschool.edu.co/event/encuentro-de-formacion-familiar-6-y-7/
END:VEVENT
BEGIN:VEVENT
DTSTART;VALUE=DATE:20220418
DTEND;VALUE=DATE:20220419
DTSTAMP:20260419T185256
CREATED:20220308T170903Z
LAST-MODIFIED:20220308T170903Z
UID:2321-1650240000-1650326399@reuvenschool.edu.co
SUMMARY:INICIO SEGUNDO PERIODO
DESCRIPTION:
URL:https://reuvenschool.edu.co/event/inicio-segundo-periodo/
END:VEVENT
BEGIN:VEVENT
DTSTART;VALUE=DATE:20220415
DTEND;VALUE=DATE:20220416
DTSTAMP:20260419T185256
CREATED:20220308T170726Z
LAST-MODIFIED:20220308T170745Z
UID:2318-1649980800-1650067199@reuvenschool.edu.co
SUMMARY:Viernes Santo
DESCRIPTION:
URL:https://reuvenschool.edu.co/event/jueves-santo/
END:VEVENT
BEGIN:VEVENT
DTSTART;VALUE=DATE:20220414
DTEND;VALUE=DATE:20220415
DTSTAMP:20260419T185256
CREATED:20220308T171313Z
LAST-MODIFIED:20220308T171313Z
UID:2327-1649894400-1649980799@reuvenschool.edu.co
SUMMARY:Jueves Santo
DESCRIPTION:
URL:https://reuvenschool.edu.co/event/jueves-santo-2/
END:VEVENT
BEGIN:VEVENT
DTSTART;VALUE=DATE:20220411
DTEND;VALUE=DATE:20220414
DTSTAMP:20260419T185256
CREATED:20220308T170700Z
LAST-MODIFIED:20220308T170700Z
UID:2316-1649635200-1649894399@reuvenschool.edu.co
SUMMARY:RECESO SEMANA SANTA
DESCRIPTION:
URL:https://reuvenschool.edu.co/event/receso-semana-santa/
END:VEVENT
BEGIN:VEVENT
DTSTART;TZID=UTC:20220330T070000
DTEND;TZID=UTC:20220407T150000
DTSTAMP:20260419T185256
CREATED:20220308T170017Z
LAST-MODIFIED:20220308T170308Z
UID:2308-1648623600-1649343600@reuvenschool.edu.co
SUMMARY:EVALUACIONES PERIODO I
DESCRIPTION:
URL:https://reuvenschool.edu.co/event/evaluaciones-periodo-i/
END:VEVENT
BEGIN:VEVENT
DTSTART;TZID=UTC:20220329T070000
DTEND;TZID=UTC:20220329T150000
DTSTAMP:20260419T185256
CREATED:20220308T165937Z
LAST-MODIFIED:20220308T165937Z
UID:2306-1648537200-1648566000@reuvenschool.edu.co
SUMMARY:Inicio EVALUACIONES PERIODO I
DESCRIPTION:
URL:https://reuvenschool.edu.co/event/inicio-evaluaciones-periodo-i/
END:VEVENT
BEGIN:VEVENT
DTSTART;TZID=UTC:20220323T070000
DTEND;TZID=UTC:20220323T153000
DTSTAMP:20260419T185256
CREATED:20220308T165209Z
LAST-MODIFIED:20220308T165209Z
UID:2304-1648018800-1648049400@reuvenschool.edu.co
SUMMARY:CONVIVENCIA grado 11°
DESCRIPTION:
URL:https://reuvenschool.edu.co/event/convivencia-grado-11/
END:VEVENT
BEGIN:VEVENT
DTSTART;TZID=UTC:20220322T070000
DTEND;TZID=UTC:20220322T153000
DTSTAMP:20260419T185256
CREATED:20220308T165134Z
LAST-MODIFIED:20220308T165134Z
UID:2302-1647932400-1647963000@reuvenschool.edu.co
SUMMARY:CONVIVENCIA grados 9° y 10°
DESCRIPTION:
URL:https://reuvenschool.edu.co/event/convivencia-grados-9-y-10/
END:VEVENT
BEGIN:VEVENT
DTSTART;VALUE=DATE:20220321
DTEND;VALUE=DATE:20220322
DTSTAMP:20260419T185256
CREATED:20220308T165055Z
LAST-MODIFIED:20220308T165055Z
UID:2300-1647820800-1647907199@reuvenschool.edu.co
SUMMARY:Día de San José
DESCRIPTION:
URL:https://reuvenschool.edu.co/event/dia-de-san-jose/
END:VEVENT
BEGIN:VEVENT
DTSTART;TZID=UTC:20220318T070000
DTEND;TZID=UTC:20220318T153000
DTSTAMP:20260419T185256
CREATED:20220308T165008Z
LAST-MODIFIED:20220308T165008Z
UID:2298-1647586800-1647617400@reuvenschool.edu.co
SUMMARY:CONVIVENCIA grados 7° y 8°
DESCRIPTION:
URL:https://reuvenschool.edu.co/event/convivencia-grados-7-y-8/
END:VEVENT
BEGIN:VEVENT
DTSTART;TZID=UTC:20220317T070000
DTEND;TZID=UTC:20220317T153000
DTSTAMP:20260419T185256
CREATED:20220308T164937Z
LAST-MODIFIED:20220308T164937Z
UID:2296-1647500400-1647531000@reuvenschool.edu.co
SUMMARY:CONVIVENCIA grados 5° y 6°
DESCRIPTION:
URL:https://reuvenschool.edu.co/event/convivencia-grados-5-y-6/
END:VEVENT
BEGIN:VEVENT
DTSTART;TZID=UTC:20220316T070000
DTEND;TZID=UTC:20220316T153000
DTSTAMP:20260419T185256
CREATED:20220308T164843Z
LAST-MODIFIED:20220308T164843Z
UID:2294-1647414000-1647444600@reuvenschool.edu.co
SUMMARY:CONVIVENCIA grados 3° y 4°
DESCRIPTION:
URL:https://reuvenschool.edu.co/event/convivencia-grados-3-y-4/
END:VEVENT
BEGIN:VEVENT
DTSTART;TZID=UTC:20220315T070000
DTEND;TZID=UTC:20220315T153000
DTSTAMP:20260419T185256
CREATED:20220308T164754Z
LAST-MODIFIED:20220308T164754Z
UID:2292-1647327600-1647358200@reuvenschool.edu.co
SUMMARY:CONVIVENCIA grados 1° y 2°
DESCRIPTION:
URL:https://reuvenschool.edu.co/event/convivencia-grados-1-y-2/
END:VEVENT
BEGIN:VEVENT
DTSTART;TZID=UTC:20220314T070000
DTEND;TZID=UTC:20220314T153000
DTSTAMP:20260419T185256
CREATED:20220308T164718Z
LAST-MODIFIED:20220308T164718Z
UID:2290-1647241200-1647271800@reuvenschool.edu.co
SUMMARY:CONVIVENCIA (Preescolar)
DESCRIPTION:
URL:https://reuvenschool.edu.co/event/convivencia-preescolar/
END:VEVENT
BEGIN:VEVENT
DTSTART;VALUE=DATE:20220311
DTEND;VALUE=DATE:20220312
DTSTAMP:20260419T185256
CREATED:20220308T164614Z
LAST-MODIFIED:20220308T164614Z
UID:2288-1646956800-1647043199@reuvenschool.edu.co
SUMMARY:CUMPLEAÑOS DEL COLEGIO
DESCRIPTION:
URL:https://reuvenschool.edu.co/event/cumpleanos-del-colegio/
END:VEVENT
BEGIN:VEVENT
DTSTART;TZID=UTC:20220305T080000
DTEND;TZID=UTC:20220305T120000
DTSTAMP:20260419T185256
CREATED:20220308T164427Z
LAST-MODIFIED:20220308T164427Z
UID:2286-1646467200-1646481600@reuvenschool.edu.co
SUMMARY:ENCUENTRO DE FORMACIÓN FAMILIAR (Preescolar)
DESCRIPTION:
URL:https://reuvenschool.edu.co/event/encuentro-de-formacion-familiar-preescolar/
END:VEVENT
BEGIN:VEVENT
DTSTART;TZID=UTC:20211215T080000
DTEND;TZID=UTC:20211215T140000
DTSTAMP:20260419T185256
CREATED:20210629T152224Z
LAST-MODIFIED:20210629T152224Z
UID:2241-1639555200-1639576800@reuvenschool.edu.co
SUMMARY:MATRÍCULAS EXTRAORDINARIAS
DESCRIPTION:
URL:https://reuvenschool.edu.co/event/matriculas-extraordinarias/
END:VEVENT
BEGIN:VEVENT
DTSTART;TZID=UTC:20211214T080000
DTEND;TZID=UTC:20211214T140000
DTSTAMP:20260419T185256
CREATED:20210629T151803Z
LAST-MODIFIED:20210629T151803Z
UID:2239-1639468800-1639490400@reuvenschool.edu.co
SUMMARY:MATRÍCULAS - 10°\, 11°
DESCRIPTION:
URL:https://reuvenschool.edu.co/event/matriculas-10-11/
END:VEVENT
BEGIN:VEVENT
DTSTART;TZID=UTC:20211213T080000
DTEND;TZID=UTC:20211213T140000
DTSTAMP:20260419T185256
CREATED:20210629T151725Z
LAST-MODIFIED:20210629T151725Z
UID:2237-1639382400-1639404000@reuvenschool.edu.co
SUMMARY:MATRÍCULAS - 7°\, 8°\, 9°
DESCRIPTION:
URL:https://reuvenschool.edu.co/event/matriculas-7-8-9/
END:VEVENT
END:VCALENDAR